Workbook
Name 系統屬性: 選項!$A$4:$A$6
Name 建置方式: 選項!$B$4:$B$10
Name 是否: 選項!$C$4:$C$5

Sheet 資通系統分級評估調查表
A1: 資通系統分級評估調查表
A2: 系統名稱 | O2: 填表日期
A3: 系統簡述 (請說明主要用途與功能)
A4: 系統屬性 | K4: 建置方式
A5: 系統擁有者(部門) | K5: 核心系統
A6: 系統管理者(部門) | K6: 含機敏資料
A7: 系統使用者(部門) | K7: ISMS驗證範圍
A8: 建置廠商 | K8: 維運廠商
A9: 承辦人 | K9: 電子郵件信箱
A10: 最大可容忍中斷時間MTPD (小時) | I10: 復原目標時間RTO(小時) | L10: 當發生服務中斷後，預計可恢復服務時間 | O10: 資料回復點目標RPO(小時) | R10: 系統每多少小時備份一次
A11: 提供服務時間 | E11: 全年都會使用到 | I11: 特定時間密集使用 (如加退選) | M11: 特定時間開放 (3個月以下) | Q11: 需要用才開啟
A13: 系統規模 (平均每日不同使用者人數) | E13: 常態使用者750人以上 | I13: 常態使用者250人至750人 | M13: 常態使用者50人至250人 | Q13: 常態使用者50人以下
A15: 利害關注方 (會影響系統目標或被系統影響的團體或個人) | E15: 涉及教職員工生以及校內外人士、不確定對象的議題 | I15: 涉及校內教職員或學生、多個類別的議題 | M15: 涉及校內教職員、學生某一類別之議題 | Q15: 只涉及單位內部行政事務
A17: 包含個資筆數 (不包含可公開個資) | E17: 1000筆以上 | I17: 500-1000筆 | M17: 100-500筆 | Q17: 100筆以下
A19: 機密性 | C19: 資訊揭露授權過程所需要之嚴謹性 | E19: 包含檔案管理法之密級資料、涉及國家安全等之機敏資料 | I19: 1.包含特種個資、醫療或法律審判資料 2.涉及個人之經歷、工作成果、績效、薪資等隱私層面資料 3.包含可直接識別個人之個人資料欄位 | M19: 包含可間接識別個人之個人資料欄位(如姓名+出生年月日+地址)及部分隱私資料 | Q19: 僅有簡單職稱、姓名、分機等一般公開途徑即可查得之資料
A21: 完整性 | C21: 資訊錯誤或遭竄改之可容忍程度 | E21: 資料遭竄改或刪除，對國家安全或個人生命安全產生影響 | I21: 資料遭竄改或刪除，對本校之營運、資產或信譽等方面產生影響 | M21: 資料遭竄改或刪除，僅對單位內業務產生影響 | Q21: 資料遭修改或刪除，對業務並無影響
A23: 可用性 | C23: 系統存取或使用之中斷之可容忍程度 | E23: 停擺會造成全校使用者的不便與抱怨；若發生故障或停機，4小時內必須恢復服務 | I23: 停擺會造成部分使用者的不便與抱怨；若發生故障或停機，4-8小時內必須恢復服務 | M23: 若發生故障或停機，8小時至3天內必須恢復服務 | Q23: 若故障或停機停擺3天以上也不會招致過多抱怨
A25: 法律遵循性 | C25: 系統涉及法律責任之輕重程度 | E25: 1.法規有明定條文，資安事件或管理過失將使相關人員負刑事責任(犯罪、判罪、易科罰金或入獄服刑，有前科。) 2.可能涉及合約上之懲罰性條款 | I25: 法規有明定條文，資安事件或管理過失將使相關人員受行政罰、懲戒或懲處 | M25: 相關業務有相關專法，但無明確罰則 | Q25: 無特殊規定
A27: 1.直接/間接識別之個人資料鑑別方式請參閱<個資識別程度>工作表。 2.請單位主管確認所填欄位是否屬實。
A28: 承辦人 | K28: 批示主管

Sheet 範例
A1: 資通系統分級評估調查表
A2: 系統名稱 | E2: ○○○系統 | O2: 填表日期 | R2: 2025/06/17
A3: 系統簡述 (請說明主要用途與功能)
A4: 系統屬性 | E4: 兼具行政/業務 | K4: 建置方式 | O4: 本機關委外開發
A5: 系統擁有者(部門) | E5: ○○處/○○組 | K5: 核心系統 | O5: 否
A6: 系統管理者(部門) | E6: ○○處/○○組 | K6: 含機敏資料 | O6: 是
A7: 系統使用者(部門) | E7: 本校各單位 | K7: ISMS驗證範圍 | O7: 否
A8: 建置廠商 | K8: 維運廠商
A9: 承辦人 | K9: 電子郵件信箱
A11: 最大可容忍中斷時間MTPD (小時) | I11: 復原目標時間RTO(小時) | L11: 當發生服務中斷後，預計可恢復服務時間 | O11: 資料回復點目標RPO(小時) | R11: 系統每多少小時備份一次
A13: 提供服務時間 | E13: 全年都會使用到 | I13: 特定時間密集使用 (如加退選) | M13: 特定時間開放 (3個月以下) | Q13: 需要用才開啟
E14: v
A15: 系統規模 (平均每日不同使用者人數) | E15: 常態使用者750人以上 | I15: 常態使用者250人至750人 | M15: 常態使用者50人至250人 | Q15: 常態使用者50人以下
M16: v
A17: 利害關注方 (會影響系統目標或被系統影響的團體或個人) | E17: 涉及教職員工生以及校內外人士、不確定對象的議題 | I17: 涉及校內教職員或學生、多個類別的議題 | M17: 涉及校內教職員、學生某一類別之議題 | Q17: 只涉及單位內部行政事務
I18: v
A19: 包含個資筆數 (不包含可公開個資) | E19: 1000筆以上 | I19: 500-1000筆 | M19: 100-500筆 | Q19: 100筆以下
E20: v
A21: 機密性 | C21: 資訊揭露授權過程所需要之嚴謹性 | E21: 1.檔案管理法之密級資料、涉及國家安全等之機敏資料 2.包含特種個資、醫療或法律審判資料 | I21: 1.涉及個人之經歷、工作成果、績效、薪資等隱私層面資料 2.包含可直接識別個人之個人資料欄位(如學號、身分證字號等) | M21: 包含可間接識別個人之個人資料欄位(如姓名+出生年月日+地址)及部分隱私資料 | Q21: 僅有簡單職稱、姓名、分機等一般公開途徑即可查得之資料
I22: v
A23: 完整性 | C23: 資訊錯誤或遭竄改之可容忍程度 | E23: 資料遭竄改或刪除，對國家安全或個人生命安全產生影響 | I23: 資料遭竄改或刪除，對本校之營運、資產或信譽等方面產生影響 | M23: 資料遭竄改或刪除，僅對單位內業務產生影響 | Q23: 資料遭修改或刪除，對業務並無影響
I24: v
A25: 可用性 | C25: 系統存取或使用之中斷之可容忍程度 | E25: 停擺會造成全校使用者的不便與抱怨；若發生故障或停機，4小時內必須恢復服務 | I25: 停擺會造成部分使用者的不便與抱怨；若發生故障或停機，4-8小時內必須恢復服務 | M25: 若發生故障或停機，8小時至3天內必須恢復服務 | Q25: 若故障或停機停擺3天以上也不會招致過多抱怨
I26: v
A27: 法律遵循性 | C27: 系統涉及法律責任之輕重程度 | E27: 1.法規有明定條文，資安事件或管理過失將使相關人員負刑事責任(犯罪、判罪、易科罰金或入獄服刑，有前科。) 2.可能涉及合約上之懲罰性條款 | I27: 法規有明定條文，資安事件或管理過失將使相關人員受行政罰、懲戒或懲處 | M27: 相關業務有相關專法，但無明確罰則 | Q27: 無特殊規定
I28: v
A29: 1.直接/間接識別之個人資料鑑別方式請參閱<個資識別程度>工作表。 2.請單位主管確認所填欄位是否屬實。
A30: 承辦人 | K30: 批示主管

Sheet <個資識別程度>
A1: 個資識別程度
A2: 無法識別之個人資料： 個人資料檔案中無含識別類之個人資料類別(COO一~COO三)所敘述項目且其他類別之項目低於三個項目(如；僅有身高及體重之統計表)
A3: 可間接識別之個人資料： 1.個人資料檔案中無含識別類之個人資料類別(COO一~COO三)所敘述項目且其他類別之項目三個項目以上(如：包含科系、個人特徵及職稱之表單) 2.可初步確認特定對象之個人資料或資料中含識別類之個人資料類別(COO一~COO三)所敘述項目一至二項(如：姓名+ID或姓名+學號)
A4: 可直接識別個人之個人資料： 1.個人資料檔案中含識別類之個人資料類別(COO一~COO三)所敘述項目三項以上(如：姓名、地址及電話)
A5: 可直接識別個人（等級3）且含其他之個人資料細節者： 如資料中含有(如：姓名、地址、電話及個人細節之資料) 補充：細節資料為橫跨下列 3個群組以上 1識別類 2特徵類 3家庭情形 4社會情況 5教育、考選、技術或其他專業 6受僱情形 7財務細節 8商業資訊 9健康與其他 10其他各類資訊

Sheet <個人資料類別清單>
C1: 個人資料類別清單
C2: 代 號 | D2: 識別類： | E2: 範例/說明
C3: Ｃ○○一 | D3: 辨識個人者 | E3: 例如：姓名、職稱、住址、工作地址、以前地址、住家電話號碼、行動電話、即時通帳號、網路平臺申請之帳號、通訊及戶籍地址、相片、指紋、電子郵遞地址、電子簽章、憑證卡序號、憑證序號、提供網路身分認證或申辦查詢服務之紀錄及其他任何可辨識資料本人者等。
C4: Ｃ○○二 | D4: 辨識財務者 | E4: 例如：金融機構帳戶之號碼與姓名、信用卡或簽帳卡之號碼、保險單號碼、個人之其他號碼或帳戶等。
C5: Ｃ○○三 | D5: 政府資料中之辨識者 | E5: 例如：身分證統一編號、統一證號、稅籍編號、保險憑證號碼、殘障手冊號碼、退休證之號碼、證照號碼、護照號碼等。
C6: 代 號 | D6: 特徵類： | E6: 範例/說明
C7: Ｃ○一一 | D7: 個人描述 | E7: 例如：年齡、性別、出生年月日、出生地、國籍、聲音等。
C8: Ｃ○一二 | D8: 身體描述 | E8: 例如：身高、體重、血型等。
C9: Ｃ○一三 | D9: 習慣 | E9: 例如：抽煙、喝酒等。
C10: Ｃ○一四 | D10: 個性 | E10: 例如：個性等之評述意見。
C11: 代 號 | D11: 家庭情形： | E11: 範例/說明
C12: Ｃ○二一 | D12: 家庭情形 | E12: 例如：結婚有無、配偶或同居人之姓名、前配偶或同居人之姓名、結婚之日期、子女之人數等。
C13: Ｃ○二二 | D13: 婚姻之歷史 | E13: 例如：前次婚姻或同居、離婚或分居等細節及相關人之姓名等。
... C55: Ｃ○八四 | D55: 貸款 | E55: 例如：貸款類別、貸款契約金額、貸款餘額、初貸日、到期日、應付利息、付款紀錄、擔保之細節等。
C56: Ｃ○八五 | D56: 結匯紀錄
C57: Ｃ○八六 | D57: 票據信用 | E57: 例如：支票存款、基本資料、退票資料、拒絕往來資料等。
C58: Ｃ○八七 | D58: 津貼、福利、贈款
C59: Ｃ○八八 | D59: 保險細節 | E59: 例如：保險種類、保險範圍、保險金額、保險期間、到期日、保險費、保險給付等。
C60: Ｃ○八九 | D60: 養老給付及國民年金 | E60: 例如：生效日期、付出與收入之金額、受益人等。
C61: Ｃ○九一 | D61: 資料主體所取得之財貨或服務 | E61: 例如：貨物或服務之有關細節、資料主體之貸款或僱用等有關細節等。
C62: Ｃ○九二 | D62: 資料主體提供之財貨或服務 | E62: 例如：貨物或服務之有關細節等。
C63: Ｃ○九三 | D63: 財務交易 | E63: 例如：收付金額、信用額度、保證人、支付方式、往來紀錄、保證金或其他擔保等。
C64: Ｃ○九四 | D64: 賠償 | E64: 例如：受請求賠償之細節、數額等。
C65: 代 號 | D65: 商業資訊： | E65: 範例/說明
C66: Ｃ一○一 | D66: 資料主體之商業活動 | E66: 例如：商業種類、提供或使用之財貨或服務、商業契約等。
C67: Ｃ一○二 | D67: 約定或契約 | E67: 例如：關於交易、商業、法律或其他契約、代理等。
C68: Ｃ一○三 | D68: 與營業有關之執照 | E68: 例如：執照之有無、市場交易者之執照、貨車駕駛之執照等。
C69: 代 號 | D69: 健康與其他： | E69: 範例/說明
C70: Ｃ一一一 | D70: 健康紀錄 | E70: 例如：醫療報告、治療與診斷紀錄、檢驗結果、身心障礙種類、等級、有效期間、身心障礙手冊證號及聯絡人等。
C71: Ｃ一一二 | D71: 性生活
C72: Ｃ一一三 | D72: 種族或血統來源 | E72: 例如：去氧核糖核酸資料等。
C73: Ｃ一一四 | D73: 交通違規之確定裁判及行政處分 | E73: 例如：裁判及行政處分之內容、其他與肇事有關之事項等。
C74: Ｃ一一五 | D74: 其他裁判及行政處分 | E74: 例如：裁判及行政處分之內容、其他相關事項等。
C75: Ｃ一一六 | D75: 犯罪嫌疑資料 | E75: 例如：作案之情節、通緝資料、與已知之犯罪者交往、化名、足資證明之證據等。
C76: Ｃ一一七 | D76: 政治意見 | E76: 例如：政治上見解、選舉政見等。
C77: Ｃ一一八 | D77: 政治團體之成員 | E77: 例如：政黨黨員或擔任之工作等。
C78: Ｃ一一九 | D78: 對利益團體之支持 | E78: 例如：係利益團體或其他組織之會員、支持者等。
C79: Ｃ一二○ | D79: 宗教信仰
C80: Ｃ一二一 | D80: 其他信仰
C81: 代 號 | D81: 其他各類資訊： | E81: 範例/說明
...

Sheet 統計
A1: =資通系統分級評估調查表!A2 -> 系統名稱 | B1: =資通系統分級評估調查表!A4 -> 系統屬性 | C1: =資通系統分級評估調查表!K4 -> 建置方式 | D1: =資通系統分級評估調查表!A5 -> 系統擁有者(部門) | E1: =資通系統分級評估調查表!K5 -> 核心系統 | F1: =資通系統分級評估調查表!A6 -> 系統管理者(部門) | G1: =資通系統分級評估調查表!K6 -> 含機敏資料 | H1: =資通系統分級評估調查表!A7 -> 系統使用者(部門) | I1: =資通系統分級評估調查表!K7 -> ISMS驗證範圍 | J1: =資通系統分級評估調查表!A8 -> 建置廠商 | K1: =資通系統分級評估調查表!K8 -> 維運廠商 | L1: =資通系統分級評估調查表!A9 -> 承辦人 | M1: =資通系統分級評估調查表!K9 -> 電子郵件信箱 | N1: =資通系統分級評估調查表!A10 -> 最大可容忍中斷時間MTPD (小時) | O1: =資通系統分級評估調查表!I10 -> 復原目標時間RTO(小時) | P1: =資通系統分級評估調查表!O10 -> 資料回復點目標RPO(小時) | Q1: =資通系統分級評估調查表!A11 -> 提供服務時間 | R1: =資通系統分級評估調查表!A13 -> 系統規模 (平均每日不同使用者人數) | S1: =資通系統分級評估調查表!A15 -> 利害關注方 (會影響系統目標或被系統影響的團體或個人) | T1: =資通系統分級評估調查表!A17 -> 包含個資筆數 (不包含可公開個資) | U1: =資通系統分級評估調查表!A19 -> 機密性 | V1: =資通系統分級評估調查表!A21 -> 完整性 | W1: =資通系統分級評估調查表!A23 -> 可用性 | X1: =資通系統分級評估調查表!A25 -> 法律遵循性
A2: =IF(資通系統分級評估調查表!$E$2="","",資通系統分級評估調查表!$E$2) | B2: =IF(資通系統分級評估調查表!$E$4="","",資通系統分級評估調查表!$E$4) | C2: =IF(資通系統分級評估調查表!$O$4="","",資通系統分級評估調查表!$O$4) | D2: =IF(資通系統分級評估調查表!$E$5="","",資通系統分級評估調查表!$E$5) | E2: =IF(資通系統分級評估調查表!$O$5="","",資通系統分級評估調查表!$O$5) | F2: =IF(資通系統分級評估調查表!$E$6="","",資通系統分級評估調查表!$E$6) | G2: =IF(資通系統分級評估調查表!$O$6="","",資通系統分級評估調查表!$O$6) | H2: =IF(資通系統分級評估調查表!$E$7="","",資通系統分級評估調查表!$E$7) | I2: =IF(資通系統分級評估調查表!$O$7="","",資通系統分級評估調查表!$O$7) | J2: =IF(資通系統分級評估調查表!$E$8="","",資通系統分級評估調查表!$E$8) | K2: =IF(資通系統分級評估調查表!$O$8="","",資通系統分級評估調查表!$O$8) | L2: =IF(資通系統分級評估調查表!$E$9="","",資通系統分級評估調查表!$E$9) | M2: =IF(資通系統分級評估調查表!$O$9="","",資通系統分級評估調查表!$O$9) | N2: =IF(資通系統分級評估調查表!$E$10="","",資通系統分級評估調查表!$E$10) | O2: =IF(資通系統分級評估調查表!$L$10="","",資通系統分級評估調查表!$L$10) -> 當發生服務中斷後，預計可恢復服務時間 | P2: =IF(資通系統分級評估調查表!$R$10="","",資通系統分級評估調查表!$R$10) -> 系統每多少小時備份一次 | Q2: =IF(MAX(Q4:$T$4)=0,"",MAX(Q4:$T$4)) | R2: =IF(MAX($Q$5:$T$5)=0,"",MAX($Q$5:$T$5)) | S2: =IF(MAX($Q$6:$T$6)=0,"",MAX($Q$6:$T$6)) | T2: =IF(MAX($Q$7:$T$7)=0,"",MAX($Q$7:$T$7)) | U2: =IF(MAX($Q$8:$T$8)=0,"",MAX($Q$8:$T$8)) | V2: =IF(MAX($Q$9:$T$9)=0,"",MAX($Q$9:$T$9)) | W2: =IF(MAX($Q$10:$T$10)=0,"",MAX($Q$10:$T$10)) | X2: =IF(MAX($Q$11:$T$11)=0,"",MAX($Q$11:$T$11))
Q4: =IF(資通系統分級評估調查表!E$12="","",4) | R4: =IF(資通系統分級評估調查表!I$12="","",3) | S4: =IF(資通系統分級評估調查表!M$12="","",2) | T4: =IF(資通系統分級評估調查表!Q$12="","",1)
Q5: =IF(資通系統分級評估調查表!E$14="","",4) | R5: =IF(資通系統分級評估調查表!I$14="","",3) | S5: =IF(資通系統分級評估調查表!M$14="","",2) | T5: =IF(資通系統分級評估調查表!Q$14="","",1)
Q6: =IF(資通系統分級評估調查表!E$16="","",4) | R6: =IF(資通系統分級評估調查表!I$16="","",3) | S6: =IF(資通系統分級評估調查表!M$16="","",2) | T6: =IF(資通系統分級評估調查表!Q$16="","",1)
Q7: =IF(資通系統分級評估調查表!E$18="","",4) | R7: =IF(資通系統分級評估調查表!I$18="","",3) | S7: =IF(資通系統分級評估調查表!M$18="","",2) | T7: =IF(資通系統分級評估調查表!Q$18="","",1)
Q8: =IF(資通系統分級評估調查表!E$20="","",4) | R8: =IF(資通系統分級評估調查表!I$20="","",3) | S8: =IF(資通系統分級評估調查表!M$20="","",2) | T8: =IF(資通系統分級評估調查表!Q$20="","",1)
Q9: =IF(資通系統分級評估調查表!E$22="","",4) | R9: =IF(資通系統分級評估調查表!I$22="","",3) | S9: =IF(資通系統分級評估調查表!M$22="","",2) | T9: =IF(資通系統分級評估調查表!Q$22="","",1)
Q10: =IF(資通系統分級評估調查表!E$24="","",4) | R10: =IF(資通系統分級評估調查表!I$24="","",3) | S10: =IF(資通系統分級評估調查表!M$24="","",2) | T10: =IF(資通系統分級評估調查表!Q$24="","",1)
Q11: =IF(資通系統分級評估調查表!E$26="","",4) | R11: =IF(資通系統分級評估調查表!I$26="","",3) | S11: =IF(資通系統分級評估調查表!M$26="","",2) | T11: =IF(資通系統分級評估調查表!Q$26="","",1)

Sheet 選項
A1: 此頁不可刪除
A3: 系統屬性 | B3: 建置方式 | C3: 是否
A4: 行政 | B4: 本機關自行開發 | C4: 是
A5: 業務 | B5: 本機關委外開發 | C5: 否
A6: 兼具行政/業務 | B6: 本機關自行設置
B7: 本機關委外設置
B8: 本機關租用服務
B9: 本機關購置套裝軟體
B10: 其他
